BEGIN:VCALENDAR
VERSION:2.0
PRODID:-//Frankie Armstrong - ECPv6.15.20//NONSGML v1.0//EN
CALSCALE:GREGORIAN
METHOD:PUBLISH
X-WR-CALNAME:Frankie Armstrong
X-ORIGINAL-URL:https://frankiearmstrong.uk
X-WR-CALDESC:Events for Frankie Armstrong
REFRESH-INTERVAL;VALUE=DURATION:PT1H
X-Robots-Tag:noindex
X-PUBLISHED-TTL:PT1H
BEGIN:VTIMEZONE
TZID:Europe/London
BEGIN:DAYLIGHT
TZOFFSETFROM:+0000
TZOFFSETTO:+0100
TZNAME:BST
DTSTART:20220327T010000
END:DAYLIGHT
BEGIN:STANDARD
TZOFFSETFROM:+0100
TZOFFSETTO:+0000
TZNAME:GMT
DTSTART:20221030T010000
END:STANDARD
BEGIN:DAYLIGHT
TZOFFSETFROM:+0000
TZOFFSETTO:+0100
TZNAME:BST
DTSTART:20230326T010000
END:DAYLIGHT
BEGIN:STANDARD
TZOFFSETFROM:+0100
TZOFFSETTO:+0000
TZNAME:GMT
DTSTART:20231029T010000
END:STANDARD
BEGIN:DAYLIGHT
TZOFFSETFROM:+0000
TZOFFSETTO:+0100
TZNAME:BST
DTSTART:20240331T010000
END:DAYLIGHT
BEGIN:STANDARD
TZOFFSETFROM:+0100
TZOFFSETTO:+0000
TZNAME:GMT
DTSTART:20241027T010000
END:STANDARD
END:VTIMEZONE
BEGIN:VEVENT
DTSTART;TZID=Europe/London:20230609T100000
DTEND;TZID=Europe/London:20230609T123000
DTSTAMP:20260419T181512
CREATED:20230324T151830Z
LAST-MODIFIED:20230324T163658Z
UID:31208-1686304800-1686313800@frankiearmstrong.uk
SUMMARY:Body-Breath-Voice online\, Session 1 of 3
DESCRIPTION:(other dates are June 16th\, June 23rd)\nWe would like people to commit to all three sessions. \nThe Earth in our Voices : This session focuses on the importance of feeling ‘grounded’ (exploring the role of the lower half of the body) for our voices to flow freely through our whole body. Our ancestors lived closer to the earth\, which gave their voices power and depth. We will use exercises\, and songs and chants from cultures that still have this relationship to the earth. \n 
URL:https://frankiearmstrong.uk/event/body-breath-voice-online-session-1-of-3/
LOCATION:Online
CATEGORIES:Online Workshop
ORGANIZER;CN="Darien Pritchard":MAILTO:darien.pritchard@gmail.com
END:VEVENT
BEGIN:VEVENT
DTSTART;TZID=Europe/London:20230616T100000
DTEND;TZID=Europe/London:20230616T123000
DTSTAMP:20260419T181512
CREATED:20230324T152147Z
LAST-MODIFIED:20230324T163732Z
UID:31210-1686909600-1686918600@frankiearmstrong.uk
SUMMARY:Body-Breath-Voice online\, Session 2 of 3
DESCRIPTION:We would like people to commit to all three sessions. \nLetting the Breath In\, Letting the Voice Out : It is self evident that our lungs and breath are crucial to giving full\, expressive voice. Yet so many of us have restricted breathing\, often without realising it\, in our sedentary culture. We will use exercises to free our ribs\, spine and hence lungs. This increases awareness of the diaphragm muscle\, and of how this\, together with the abdominal muscles\, gives strength\, stamina and resonance to the voice without strain. We will also play with exercises and songs that encourage increasing our range and ability to sustain sound. \n 
URL:https://frankiearmstrong.uk/event/body-breath-voice-online-session-2-of-3/
LOCATION:Online
CATEGORIES:Online Workshop
ORGANIZER;CN="Darien Pritchard":MAILTO:darien.pritchard@gmail.com
END:VEVENT
BEGIN:VEVENT
DTSTART;TZID=Europe/London:20230623T100000
DTEND;TZID=Europe/London:20230623T123000
DTSTAMP:20260419T181512
CREATED:20230324T152348Z
LAST-MODIFIED:20230324T163758Z
UID:31212-1687514400-1687523400@frankiearmstrong.uk
SUMMARY:Body-Breath-Voice online\, Session 3 of 3
DESCRIPTION:We would like people to commit to all three sessions. \nLet your Voice Soar: Most of us find ourselves with more tension than we might like in our throat and jaw. This session focuses on freeing the shoulders\, neck\, tongue\, throat and jaw to help liberate sound and song. \n  \n 
URL:https://frankiearmstrong.uk/event/body-breath-voice-online-session-3-of-3/
LOCATION:Online
CATEGORIES:Online Workshop
ORGANIZER;CN="Darien Pritchard":MAILTO:darien.pritchard@gmail.com
END:VEVENT
BEGIN:VEVENT
DTSTART;TZID=Europe/London:20230630T140000
DTEND;TZID=Europe/London:20230703T153000
DTSTAMP:20260419T181512
CREATED:20221114T124302Z
LAST-MODIFIED:20230324T163912Z
UID:31165-1688133600-1688398200@frankiearmstrong.uk
SUMMARY:Modular Voice Leader Training Part 2 (of 2)
DESCRIPTION:More info here
URL:https://frankiearmstrong.uk/event/modular-voice-leader-training-part-2-of-2/
LOCATION:The Gasworks Studio\, 27 Narroways Rd\,\, St. Werburghs\, Bristol\, BS2 9XB\, United Kingdom
CATEGORIES:Training
END:VEVENT
END:VCALENDAR