BEGIN:VCALENDAR
VERSION:2.0
PRODID:-//Frankie Armstrong - ECPv6.15.20//NONSGML v1.0//EN
CALSCALE:GREGORIAN
METHOD:PUBLISH
X-ORIGINAL-URL:https://frankiearmstrong.uk
X-WR-CALDESC:Events for Frankie Armstrong
REFRESH-INTERVAL;VALUE=DURATION:PT1H
X-Robots-Tag:noindex
X-PUBLISHED-TTL:PT1H
BEGIN:VTIMEZONE
TZID:Europe/London
BEGIN:DAYLIGHT
TZOFFSETFROM:+0000
TZOFFSETTO:+0100
TZNAME:BST
DTSTART:20210328T010000
END:DAYLIGHT
BEGIN:STANDARD
TZOFFSETFROM:+0100
TZOFFSETTO:+0000
TZNAME:GMT
DTSTART:20211031T010000
END:STANDARD
BEGIN:DAYLIGHT
TZOFFSETFROM:+0000
TZOFFSETTO:+0100
TZNAME:BST
DTSTART:20220327T010000
END:DAYLIGHT
BEGIN:STANDARD
TZOFFSETFROM:+0100
TZOFFSETTO:+0000
TZNAME:GMT
DTSTART:20221030T010000
END:STANDARD
BEGIN:DAYLIGHT
TZOFFSETFROM:+0000
TZOFFSETTO:+0100
TZNAME:BST
DTSTART:20230326T010000
END:DAYLIGHT
BEGIN:STANDARD
TZOFFSETFROM:+0100
TZOFFSETTO:+0000
TZNAME:GMT
DTSTART:20231029T010000
END:STANDARD
END:VTIMEZONE
BEGIN:VEVENT
DTSTART;TZID=Europe/London:20220312T073000
DTEND;TZID=Europe/London:20220312T211500
DTSTAMP:20260422T183223
CREATED:20220218T181059Z
LAST-MODIFIED:20220218T181824Z
UID:30985-1647070200-1647119700@frankiearmstrong.uk
SUMMARY:Green Ribbons concert
DESCRIPTION:Concert – Frankie with Green Ribbons\nChapter Arts Centre\, Market Place\, Cardiff
URL:https://frankiearmstrong.uk/event/green-ribbons-concert/
LOCATION:Chapter Arts Centre\, Market Rd\, Cardiff\, CF5 1QE
CATEGORIES:Live Concert
END:VEVENT
BEGIN:VEVENT
DTSTART;TZID=Europe/London:20220313T143000
DTEND;TZID=Europe/London:20220313T143000
DTSTAMP:20260422T183223
CREATED:20220218T181606Z
LAST-MODIFIED:20220218T181805Z
UID:30988-1647181800-1647181800@frankiearmstrong.uk
SUMMARY:Green Ribbons workshop on unaccompanied singing
DESCRIPTION:Workshop by members of Green Ribbons
URL:https://frankiearmstrong.uk/event/green-ribbons-workshop-on-unaccompanied-singing/
LOCATION:Kings Place\, Kings Cross\, London\, N1 9AG
CATEGORIES:Workshop
END:VEVENT
BEGIN:VEVENT
DTSTART;TZID=Europe/London:20220313T190000
DTEND;TZID=Europe/London:20220313T220000
DTSTAMP:20260422T183223
CREATED:20220218T181732Z
LAST-MODIFIED:20220913T170418Z
UID:30991-1647198000-1647208800@frankiearmstrong.uk
SUMMARY:Peggy Seeger and Calum McColl concert
DESCRIPTION:Green Ribbons opening concert for Peggy Seeger and Calum McColl
URL:https://frankiearmstrong.uk/event/peggy-seeger-and-calum-mccoll-concert/
LOCATION:Kings Place\, Kings Cross\, London\, N1 9AG
CATEGORIES:Live Concert
END:VEVENT
BEGIN:VEVENT
DTSTART;TZID=Europe/London:20220319T100000
DTEND;TZID=Europe/London:20220319T120000
DTSTAMP:20260422T183223
CREATED:20211210T142142Z
LAST-MODIFIED:20211210T145742Z
UID:30968-1647684000-1647691200@frankiearmstrong.uk
SUMMARY:Adventures in Voice (3 x 2 hours)
DESCRIPTION:Adventures in Voice (3 x 2 hours)\, 10am-12noon on Saturdays\n– March 19th\, March 26th\, April 9th
URL:https://frankiearmstrong.uk/event/adventures-in-voice-3-x-2-hours/
LOCATION:Zoom
CATEGORIES:Online Course
ORGANIZER;CN="Frankie Armstrong":MAILTO:frankiearmstrong45@gmail.com
END:VEVENT
BEGIN:VEVENT
DTSTART;TZID=Europe/London:20220324T193000
DTEND;TZID=Europe/London:20220324T220000
DTSTAMP:20260422T183223
CREATED:20220218T182003Z
LAST-MODIFIED:20220913T170310Z
UID:30993-1648150200-1648159200@frankiearmstrong.uk
SUMMARY:MPD concert (Musicians for Peace and Disarmament)
DESCRIPTION:Frankie with Rory McLeod\, Jim Woodland Janet Russell and choirs\, and Michael and Reina Reinstein\nOnline concert to celebrate the first meeting of the nations which signed up to Treaty on the Prohibition of Nuclear Weapons (TPNW) in January 2021.
URL:https://frankiearmstrong.uk/event/mpd-concert-musicians-for-peace-and-disarmament/
LOCATION:Online
CATEGORIES:Online Concert
END:VEVENT
BEGIN:VEVENT
DTSTART;TZID=Europe/London:20220325T183000
DTEND;TZID=Europe/London:20220325T223000
DTSTAMP:20260422T183223
CREATED:20220218T182307Z
LAST-MODIFIED:20220218T182307Z
UID:30995-1648233000-1648247400@frankiearmstrong.uk
SUMMARY:Reimagining Ageing
DESCRIPTION:Frankie is singing as part of closing celebrations for the photographic exhibition Hidden Depths – photographed by Laura Page \ninfo@artspace.org.uk
URL:https://frankiearmstrong.uk/event/reimagining-ageing/
LOCATION:Persistence works Studios\, 21 Brown St\, Sheffield\, S1 2BS
CATEGORIES:Live Concert
END:VEVENT
END:VCALENDAR