BEGIN:VCALENDAR
VERSION:2.0
PRODID:-//Frankie Armstrong - ECPv6.15.20//NONSGML v1.0//EN
CALSCALE:GREGORIAN
METHOD:PUBLISH
X-ORIGINAL-URL:https://frankiearmstrong.uk
X-WR-CALDESC:Events for Frankie Armstrong
REFRESH-INTERVAL;VALUE=DURATION:PT1H
X-Robots-Tag:noindex
X-PUBLISHED-TTL:PT1H
BEGIN:VTIMEZONE
TZID:Europe/London
BEGIN:DAYLIGHT
TZOFFSETFROM:+0000
TZOFFSETTO:+0100
TZNAME:BST
DTSTART:20200329T010000
END:DAYLIGHT
BEGIN:STANDARD
TZOFFSETFROM:+0100
TZOFFSETTO:+0000
TZNAME:GMT
DTSTART:20201025T010000
END:STANDARD
BEGIN:DAYLIGHT
TZOFFSETFROM:+0000
TZOFFSETTO:+0100
TZNAME:BST
DTSTART:20210328T010000
END:DAYLIGHT
BEGIN:STANDARD
TZOFFSETFROM:+0100
TZOFFSETTO:+0000
TZNAME:GMT
DTSTART:20211031T010000
END:STANDARD
BEGIN:DAYLIGHT
TZOFFSETFROM:+0000
TZOFFSETTO:+0100
TZNAME:BST
DTSTART:20220327T010000
END:DAYLIGHT
BEGIN:STANDARD
TZOFFSETFROM:+0100
TZOFFSETTO:+0000
TZNAME:GMT
DTSTART:20221030T010000
END:STANDARD
END:VTIMEZONE
BEGIN:VEVENT
DTSTART;TZID=Europe/London:20210730T080000
DTEND;TZID=Europe/London:20210804T170000
DTSTAMP:20260423T060219
CREATED:20210531T114905Z
LAST-MODIFIED:20210531T114905Z
UID:30681-1627632000-1628096400@frankiearmstrong.uk
SUMMARY:Voice Workshop for Sidmouth Folk Festival
DESCRIPTION:Online Workshop\n30 July – 4 August\nFrankie will be doing a Voice Workshop for Sidmouth Folk Festival (exact date & time tbc)
URL:https://frankiearmstrong.uk/event/voice-workshop-for-sidmouth-folk-festival/
CATEGORIES:Online Workshop
END:VEVENT
BEGIN:VEVENT
DTSTART;TZID=Europe/London:20210805T193000
DTEND;TZID=Europe/London:20210805T230000
DTSTAMP:20260423T060219
CREATED:20210531T115047Z
LAST-MODIFIED:20210531T115047Z
UID:30683-1628191800-1628204400@frankiearmstrong.uk
SUMMARY:Frankie with Robb Johnson and Mike Reinstein - Brighton
DESCRIPTION:Concert\, live\n5 August\nMPD\, Brighton (7.30pm)\nFrankie with Robb Johnson and Mike Reinstein in a live concert for Musicians for Peace and Disarmament in commemoration of the bombing of Hiroshima – later to be put on youtube
URL:https://frankiearmstrong.uk/event/frankie-with-robb-johnson-and-mike-reinstein-brighton/
CATEGORIES:Live Concert
END:VEVENT
BEGIN:VEVENT
DTSTART;TZID=Europe/London:20210826T193000
DTEND;TZID=Europe/London:20210826T230000
DTSTAMP:20260423T060219
CREATED:20210531T115232Z
LAST-MODIFIED:20210608T124721Z
UID:30685-1630006200-1630018800@frankiearmstrong.uk
SUMMARY:Walk to Greenham Commemoration -Cardiff
DESCRIPTION:Walk to Greenham commemoration\nFrankie taking part in 40-year commemoration of the start of the Greenham peace march\, starting in Cardiff\, Wales
URL:https://frankiearmstrong.uk/event/walk-to-greenham-commemoration-cardiff/
CATEGORIES:Live Concert
END:VEVENT
END:VCALENDAR