BEGIN:VCALENDAR
VERSION:2.0
PRODID:-//Frankie Armstrong - ECPv6.15.20//NONSGML v1.0//EN
CALSCALE:GREGORIAN
METHOD:PUBLISH
X-ORIGINAL-URL:https://frankiearmstrong.uk
X-WR-CALDESC:Events for Frankie Armstrong
REFRESH-INTERVAL;VALUE=DURATION:PT1H
X-Robots-Tag:noindex
X-PUBLISHED-TTL:PT1H
BEGIN:VTIMEZONE
TZID:Europe/London
BEGIN:DAYLIGHT
TZOFFSETFROM:+0000
TZOFFSETTO:+0100
TZNAME:BST
DTSTART:20200329T010000
END:DAYLIGHT
BEGIN:STANDARD
TZOFFSETFROM:+0100
TZOFFSETTO:+0000
TZNAME:GMT
DTSTART:20201025T010000
END:STANDARD
BEGIN:DAYLIGHT
TZOFFSETFROM:+0000
TZOFFSETTO:+0100
TZNAME:BST
DTSTART:20210328T010000
END:DAYLIGHT
BEGIN:STANDARD
TZOFFSETFROM:+0100
TZOFFSETTO:+0000
TZNAME:GMT
DTSTART:20211031T010000
END:STANDARD
BEGIN:DAYLIGHT
TZOFFSETFROM:+0000
TZOFFSETTO:+0100
TZNAME:BST
DTSTART:20220327T010000
END:DAYLIGHT
BEGIN:STANDARD
TZOFFSETFROM:+0100
TZOFFSETTO:+0000
TZNAME:GMT
DTSTART:20221030T010000
END:STANDARD
END:VTIMEZONE
BEGIN:VEVENT
DTSTART;TZID=Europe/London:20210701T200000
DTEND;TZID=Europe/London:20210701T210000
DTSTAMP:20260423T073348
CREATED:20210601T114328Z
LAST-MODIFIED:20210629T160102Z
UID:30747-1625169600-1625173200@frankiearmstrong.uk
SUMMARY:An evening with Frankie Armstrong
DESCRIPTION:“On Thursday 1st July at 8pm\, streamed online\, Home Stage are thrilled to present an exclusive insight into the life of a key figure of the British folk scene. Known for her powerful soprano voice\, evocative storytelling and social campaigning\, we are delighted to welcome the one-and-only Frankie Armstrong. Along with archival recordings from her past\, witness never-seen-before performances of Frankie’s repertoire as well as surprise appearances from some exciting guests….”
URL:https://frankiearmstrong.uk/event/an-evening-with-frankie-armstrong/
LOCATION:Homestage
CATEGORIES:Online Discussion
END:VEVENT
BEGIN:VEVENT
DTSTART;VALUE=DATE:20210716
DTEND;VALUE=DATE:20210720
DTSTAMP:20260423T073348
CREATED:20210508T135956Z
LAST-MODIFIED:20210608T123145Z
UID:29766-1626393600-1626739199@frankiearmstrong.uk
SUMMARY:Natural Voice leaders Training - Modular
DESCRIPTION:Module 1: 16th to 19th July 2021 and  Module 2: 6th to 9th August 2021
URL:https://frankiearmstrong.uk/event/natural-voice-leaders-training-module-1/
CATEGORIES:Training
END:VEVENT
BEGIN:VEVENT
DTSTART;TZID=Europe/London:20210724T193000
DTEND;TZID=Europe/London:20210724T220000
DTSTAMP:20260423T073348
CREATED:20210531T112437Z
LAST-MODIFIED:20210531T112628Z
UID:30675-1627155000-1627164000@frankiearmstrong.uk
SUMMARY:Frankie with Green Ribbons - London
DESCRIPTION:Concert\, live\nLondon (7.30pm)\nFrankie with Green Ribbons (Debbie Armour\, Alisdair Roberts and Ben “Jimwoo’ Webb)
URL:https://frankiearmstrong.uk/event/frankie-with-green-ribbons/
CATEGORIES:Live Concert
END:VEVENT
BEGIN:VEVENT
DTSTART;TZID=Europe/London:20210725T190000
DTEND;TZID=Europe/London:20210725T220000
DTSTAMP:20260423T073348
CREATED:20210531T112550Z
LAST-MODIFIED:20210608T121917Z
UID:30677-1627239600-1627250400@frankiearmstrong.uk
SUMMARY:Frankie with Green Ribbons - Cardiff
DESCRIPTION:Concert\, live\n25 July (tbc)\nCardiff\, Wales (7.30pm)\nFrankie with Green Ribbons (Debbie Armour\, Alisdair Roberts and Ben “Jimwoo’ Webb)
URL:https://frankiearmstrong.uk/event/frankie-with-green-ribbons-2/
CATEGORIES:Live Concert
END:VEVENT
BEGIN:VEVENT
DTSTART;TZID=Europe/London:20210730T080000
DTEND;TZID=Europe/London:20210804T170000
DTSTAMP:20260423T073348
CREATED:20210531T114905Z
LAST-MODIFIED:20210531T114905Z
UID:30681-1627632000-1628096400@frankiearmstrong.uk
SUMMARY:Voice Workshop for Sidmouth Folk Festival
DESCRIPTION:Online Workshop\n30 July – 4 August\nFrankie will be doing a Voice Workshop for Sidmouth Folk Festival (exact date & time tbc)
URL:https://frankiearmstrong.uk/event/voice-workshop-for-sidmouth-folk-festival/
CATEGORIES:Online Workshop
END:VEVENT
END:VCALENDAR