BEGIN:VCALENDAR
VERSION:2.0
PRODID:-//Frankie Armstrong - ECPv6.15.20//NONSGML v1.0//EN
CALSCALE:GREGORIAN
METHOD:PUBLISH
X-WR-CALNAME:Frankie Armstrong
X-ORIGINAL-URL:https://frankiearmstrong.uk
X-WR-CALDESC:Events for Frankie Armstrong
REFRESH-INTERVAL;VALUE=DURATION:PT1H
X-Robots-Tag:noindex
X-PUBLISHED-TTL:PT1H
BEGIN:VTIMEZONE
TZID:Europe/London
BEGIN:DAYLIGHT
TZOFFSETFROM:+0000
TZOFFSETTO:+0100
TZNAME:BST
DTSTART:20200329T010000
END:DAYLIGHT
BEGIN:STANDARD
TZOFFSETFROM:+0100
TZOFFSETTO:+0000
TZNAME:GMT
DTSTART:20201025T010000
END:STANDARD
BEGIN:DAYLIGHT
TZOFFSETFROM:+0000
TZOFFSETTO:+0100
TZNAME:BST
DTSTART:20210328T010000
END:DAYLIGHT
BEGIN:STANDARD
TZOFFSETFROM:+0100
TZOFFSETTO:+0000
TZNAME:GMT
DTSTART:20211031T010000
END:STANDARD
BEGIN:DAYLIGHT
TZOFFSETFROM:+0000
TZOFFSETTO:+0100
TZNAME:BST
DTSTART:20220327T010000
END:DAYLIGHT
BEGIN:STANDARD
TZOFFSETFROM:+0100
TZOFFSETTO:+0000
TZNAME:GMT
DTSTART:20221030T010000
END:STANDARD
END:VTIMEZONE
BEGIN:VEVENT
DTSTART;VALUE=DATE:20210309
DTEND;VALUE=DATE:20210310
DTSTAMP:20260420T090637
CREATED:20210422T164154Z
LAST-MODIFIED:20210528T210325Z
UID:29625-1615248000-1615334399@frankiearmstrong.uk
SUMMARY:Oasis refugee women’s choir
DESCRIPTION:9th March – For international women’s day Frankie will be singing with the Oasis refugee women’s choir and their leader Laura Bradshaw at the Oasis Refugee Centre\, 69b Split Road\, Cardiff\, CF24 2BW\, 12pm
URL:https://frankiearmstrong.uk/event/oasis-refugee-womens-choir/
LOCATION:Oasis Refugee Centre\, 69b Split Road\, Cardiff\, CF24 2BW\, 69b Split Road\, Cardiff\, CF24 2BW
CATEGORIES:Performance
END:VEVENT
BEGIN:VEVENT
DTSTART;VALUE=DATE:20210307
DTEND;VALUE=DATE:20210308
DTSTAMP:20260420T090637
CREATED:20210422T163947Z
LAST-MODIFIED:20210528T210318Z
UID:29621-1615075200-1615161599@frankiearmstrong.uk
SUMMARY:Voice workshop
DESCRIPTION:Frankie will be running a voice workshop at The Stables\, Lancaster and  appearing with Wife of Cain in an evening concert. The voice workshop is sold out however there is availability for the evening concert. For further information please email bleazey@woodenflutes.co.uk
URL:https://frankiearmstrong.uk/event/voice-workshop/
LOCATION:The Stables\, Lancaster
CATEGORIES:Workshop
ORGANIZER;CN="bleazey":MAILTO:bleazey@woodenflutes.co.uk
END:VEVENT
END:VCALENDAR