BEGIN:VCALENDAR
VERSION:2.0
PRODID:-//Frankie Armstrong - ECPv6.15.20//NONSGML v1.0//EN
CALSCALE:GREGORIAN
METHOD:PUBLISH
X-WR-CALNAME:Frankie Armstrong
X-ORIGINAL-URL:https://frankiearmstrong.uk
X-WR-CALDESC:Events for Frankie Armstrong
REFRESH-INTERVAL;VALUE=DURATION:PT1H
X-Robots-Tag:noindex
X-PUBLISHED-TTL:PT1H
BEGIN:VTIMEZONE
TZID:Europe/London
BEGIN:DAYLIGHT
TZOFFSETFROM:+0000
TZOFFSETTO:+0100
TZNAME:BST
DTSTART:20240331T010000
END:DAYLIGHT
BEGIN:STANDARD
TZOFFSETFROM:+0100
TZOFFSETTO:+0000
TZNAME:GMT
DTSTART:20241027T010000
END:STANDARD
BEGIN:DAYLIGHT
TZOFFSETFROM:+0000
TZOFFSETTO:+0100
TZNAME:BST
DTSTART:20250330T010000
END:DAYLIGHT
BEGIN:STANDARD
TZOFFSETFROM:+0100
TZOFFSETTO:+0000
TZNAME:GMT
DTSTART:20251026T010000
END:STANDARD
BEGIN:DAYLIGHT
TZOFFSETFROM:+0000
TZOFFSETTO:+0100
TZNAME:BST
DTSTART:20260329T010000
END:DAYLIGHT
BEGIN:STANDARD
TZOFFSETFROM:+0100
TZOFFSETTO:+0000
TZNAME:GMT
DTSTART:20261025T010000
END:STANDARD
END:VTIMEZONE
BEGIN:VEVENT
DTSTART;VALUE=DATE:20250706
DTEND;VALUE=DATE:20250713
DTSTAMP:20260420T011445
CREATED:20241216T164034Z
LAST-MODIFIED:20241216T164034Z
UID:31425-1751760000-1752364799@frankiearmstrong.uk
SUMMARY:Adventures with Archetypes Myths and Legends
DESCRIPTION:July 6th to July 12th 2025\n\nWeek long intensive workshop exploring the physicality and vocal qualities using the universal aspect of figures from the world’s mythologies.\n\nTUITION\, ROOM AND BOARD**\n$1110.00\, single room/$975 shared room (£890 pounds/£775)\nYurt or bell tents [with proper bed]. $650/£510 \nCOURSE LIMITED TO 14 PARTICIPANTS\nIF INTERESTED\, PLEASE CONTACT SHEILA GORDON sheilamg@stedwards.edu \n*The workshop is available to all levels of experience. We welcome teachers looking to further their pedagogical skills. First level toward certification available. This workshop can comfortably accommodate only 14 participants\, so please reserve your space early. To hold your place in the workshop please make a deposit of $300.00 by February 15\, 2025. \n**PARTICIPANTS WILL BE HOUSED at Kinnersley castle. Meals (fresh\, organic vegetarian fare) are included in the cost.
URL:https://frankiearmstrong.uk/event/adventures-with-archetypes-myths-and-legends/
LOCATION:Kinnersley Castle\, Kinnersley Castle\, Kinnersley\, Hereford\, HR3 6QF
CATEGORIES:Workshop
END:VEVENT
END:VCALENDAR