BEGIN:VCALENDAR
VERSION:2.0
PRODID:-//Frankie Armstrong - ECPv6.15.20//NONSGML v1.0//EN
CALSCALE:GREGORIAN
METHOD:PUBLISH
X-WR-CALNAME:Frankie Armstrong
X-ORIGINAL-URL:https://frankiearmstrong.uk
X-WR-CALDESC:Events for Frankie Armstrong
REFRESH-INTERVAL;VALUE=DURATION:PT1H
X-Robots-Tag:noindex
X-PUBLISHED-TTL:PT1H
BEGIN:VTIMEZONE
TZID:Europe/London
BEGIN:DAYLIGHT
TZOFFSETFROM:+0000
TZOFFSETTO:+0100
TZNAME:BST
DTSTART:20210328T010000
END:DAYLIGHT
BEGIN:STANDARD
TZOFFSETFROM:+0100
TZOFFSETTO:+0000
TZNAME:GMT
DTSTART:20211031T010000
END:STANDARD
BEGIN:DAYLIGHT
TZOFFSETFROM:+0000
TZOFFSETTO:+0100
TZNAME:BST
DTSTART:20220327T010000
END:DAYLIGHT
BEGIN:STANDARD
TZOFFSETFROM:+0100
TZOFFSETTO:+0000
TZNAME:GMT
DTSTART:20221030T010000
END:STANDARD
BEGIN:DAYLIGHT
TZOFFSETFROM:+0000
TZOFFSETTO:+0100
TZNAME:BST
DTSTART:20230326T010000
END:DAYLIGHT
BEGIN:STANDARD
TZOFFSETFROM:+0100
TZOFFSETTO:+0000
TZNAME:GMT
DTSTART:20231029T010000
END:STANDARD
END:VTIMEZONE
BEGIN:VEVENT
DTSTART;TZID=Europe/London:20220802T000000
DTEND;TZID=Europe/London:20220803T000000
DTSTAMP:20260420T045655
CREATED:20220218T183758Z
LAST-MODIFIED:20220218T183758Z
UID:31009-1659398400-1659484800@frankiearmstrong.uk
SUMMARY:Voice workshops and concerts at Sidmouth Folk Festival
DESCRIPTION:Frankie will be taking part in Sidmouth Folk Festival\, (July 29-August 5)
URL:https://frankiearmstrong.uk/event/voice-workshops-and-concerts-at-sidmouth-folk-festival/
LOCATION:Sidmouth Folk Festival\, Sidmouth\, EX10 8XR
CATEGORIES:Live Concert,Workshop
END:VEVENT
BEGIN:VEVENT
DTSTART;TZID=Europe/London:20220818T100000
DTEND;TZID=Europe/London:20220818T100000
DTSTAMP:20260420T045655
CREATED:20220614T183733Z
LAST-MODIFIED:20220615T110918Z
UID:31059-1660816800-1660816800@frankiearmstrong.uk
SUMMARY:Workshop at AOMO Conference
DESCRIPTION:Finding Our Voices as Activists\nWorkshop – with Frankie Armstrong and Darien Pritchard\nat AOMO Conference\, Liverpool\, Thursday 18th August \nHistory and Future of The Art of Management and Organization Conference \n \nHow can we keep our energy and our commitment to activism going at a time such as this? By raising our voices together. \nWe need a belief in our right to make ourselves heard\, and we need to find a full-bodied voice that matches our desire to be heard. This workshop is designed to help everyone (regardless of past experience) to find a free\, powerful and expressive voice. Frankie\, a singer and voice teacher\, will be joined by her partner Darien Pritchard\, a massage and flexibility teacher\, to explore how using the body and breath contribute to finding a vibrant voice\, combining ease with power. \nWe aim to create an enjoyable\, supportive \,nonjudgemental atmosphere – with the emphasis on exploration\, discovery and play – not “getting it right”. No prior experience is required\, just wear loose comfortable clothes for gentle exercises\, and bring a water bottle and an open heart and mind. \nFrankie has been helping people to ‘find’ their voices for 47 years\, as well as being a singer in the peace\, women’s and social justice movements since the 1960s. \nWorkshop: 10am to 1pm\, 18th August 2022 \nTickets: £50 \nFor further information and Bookings: please contact Darien Pritchard darien.pritchard@gmail.com
URL:https://frankiearmstrong.uk/event/workshop-at-aomo-conference/
CATEGORIES:Workshop
ORGANIZER;CN="Darien Pritchard":MAILTO:darien.pritchard@gmail.com
END:VEVENT
BEGIN:VEVENT
DTSTART;TZID=Europe/London:20220820T000000
DTEND;TZID=Europe/London:20220826T000000
DTSTAMP:20260420T045655
CREATED:20220218T184242Z
LAST-MODIFIED:20220218T184242Z
UID:31014-1660953600-1661472000@frankiearmstrong.uk
SUMMARY:Concert spots and workshops at Whitby Folk Week
DESCRIPTION:Frankie will be featuring in concerts and will also run voice workshops
URL:https://frankiearmstrong.uk/event/concert-spots-and-workshops-at-whitby-folk-week/
LOCATION:Whitby Folk Week\, Whitby\, West Yorkshire
CATEGORIES:Live Concert,Workshop
END:VEVENT
END:VCALENDAR