BEGIN:VCALENDAR
VERSION:2.0
PRODID:-//Frankie Armstrong - ECPv6.15.20//NONSGML v1.0//EN
CALSCALE:GREGORIAN
METHOD:PUBLISH
X-WR-CALNAME:Frankie Armstrong
X-ORIGINAL-URL:https://frankiearmstrong.uk
X-WR-CALDESC:Events for Frankie Armstrong
REFRESH-INTERVAL;VALUE=DURATION:PT1H
X-Robots-Tag:noindex
X-PUBLISHED-TTL:PT1H
BEGIN:VTIMEZONE
TZID:Europe/London
BEGIN:DAYLIGHT
TZOFFSETFROM:+0000
TZOFFSETTO:+0100
TZNAME:BST
DTSTART:20210328T010000
END:DAYLIGHT
BEGIN:STANDARD
TZOFFSETFROM:+0100
TZOFFSETTO:+0000
TZNAME:GMT
DTSTART:20211031T010000
END:STANDARD
BEGIN:DAYLIGHT
TZOFFSETFROM:+0000
TZOFFSETTO:+0100
TZNAME:BST
DTSTART:20220327T010000
END:DAYLIGHT
BEGIN:STANDARD
TZOFFSETFROM:+0100
TZOFFSETTO:+0000
TZNAME:GMT
DTSTART:20221030T010000
END:STANDARD
BEGIN:DAYLIGHT
TZOFFSETFROM:+0000
TZOFFSETTO:+0100
TZNAME:BST
DTSTART:20230326T010000
END:DAYLIGHT
BEGIN:STANDARD
TZOFFSETFROM:+0100
TZOFFSETTO:+0000
TZNAME:GMT
DTSTART:20231029T010000
END:STANDARD
END:VTIMEZONE
BEGIN:VEVENT
DTSTART;TZID=Europe/London:20220122T100000
DTEND;TZID=Europe/London:20220122T120000
DTSTAMP:20260421T013900
CREATED:20211210T141808Z
LAST-MODIFIED:20211210T145648Z
UID:30966-1642845600-1642852800@frankiearmstrong.uk
SUMMARY:Body-Breath-Voice course (3 x 2 hours)
DESCRIPTION:Body-Breath-Voice course (3 x 2 hours)\, 10am-12noon on Saturdays\n– January 22nd\, February 5th\, February 12th \nWith Frankie Armstrong and Darien Pritchard
URL:https://frankiearmstrong.uk/event/body-breath-voice-course-3-x-2-hours/
LOCATION:Zoom
CATEGORIES:Online Course
ORGANIZER;CN="Frankie Armstrong":MAILTO:frankiearmstrong45@gmail.com
END:VEVENT
END:VCALENDAR