BEGIN:VCALENDAR
VERSION:2.0
PRODID:-//Frankie Armstrong - ECPv6.15.20//NONSGML v1.0//EN
CALSCALE:GREGORIAN
METHOD:PUBLISH
X-WR-CALNAME:Frankie Armstrong
X-ORIGINAL-URL:https://frankiearmstrong.uk
X-WR-CALDESC:Events for Frankie Armstrong
REFRESH-INTERVAL;VALUE=DURATION:PT1H
X-Robots-Tag:noindex
X-PUBLISHED-TTL:PT1H
BEGIN:VTIMEZONE
TZID:Europe/London
BEGIN:DAYLIGHT
TZOFFSETFROM:+0000
TZOFFSETTO:+0100
TZNAME:BST
DTSTART:20230326T010000
END:DAYLIGHT
BEGIN:STANDARD
TZOFFSETFROM:+0100
TZOFFSETTO:+0000
TZNAME:GMT
DTSTART:20231029T010000
END:STANDARD
BEGIN:DAYLIGHT
TZOFFSETFROM:+0000
TZOFFSETTO:+0100
TZNAME:BST
DTSTART:20240331T010000
END:DAYLIGHT
BEGIN:STANDARD
TZOFFSETFROM:+0100
TZOFFSETTO:+0000
TZNAME:GMT
DTSTART:20241027T010000
END:STANDARD
BEGIN:DAYLIGHT
TZOFFSETFROM:+0000
TZOFFSETTO:+0100
TZNAME:BST
DTSTART:20250330T010000
END:DAYLIGHT
BEGIN:STANDARD
TZOFFSETFROM:+0100
TZOFFSETTO:+0000
TZNAME:GMT
DTSTART:20251026T010000
END:STANDARD
BEGIN:DAYLIGHT
TZOFFSETFROM:+0000
TZOFFSETTO:+0100
TZNAME:BST
DTSTART:20260329T010000
END:DAYLIGHT
BEGIN:STANDARD
TZOFFSETFROM:+0100
TZOFFSETTO:+0000
TZNAME:GMT
DTSTART:20261025T010000
END:STANDARD
END:VTIMEZONE
BEGIN:VEVENT
DTSTART;VALUE=DATE:20240206
DTEND;VALUE=DATE:20240416
DTSTAMP:20260420T043352
CREATED:20231127T140851Z
LAST-MODIFIED:20231127T140851Z
UID:31292-1707177600-1713225599@frankiearmstrong.uk
SUMMARY:Frankie in Australia 2024!
DESCRIPTION:Frankie will be in Australia between 6th February 2024 and 15th April 2024\nDuring her stay in Australia Frankie will be taking part in concerts and running workshops. If you’d like to find out more about this either email Frankie on frankiearmstrong 45@gmail.com\nAfter 6th February if you want to call Frankie please call her on 0410 709 506
URL:https://frankiearmstrong.uk/event/frankie-in-australia-2024/
LOCATION:West Yorkshire
CATEGORIES:Live Concert,Workshop
END:VEVENT
BEGIN:VEVENT
DTSTART;TZID=Europe/London:20240210T183000
DTEND;TZID=Europe/London:20240210T230000
DTSTAMP:20260420T043352
CREATED:20240202T105902Z
LAST-MODIFIED:20240202T105902Z
UID:31319-1707589800-1707606000@frankiearmstrong.uk
SUMMARY:Frankie Armstrong live at Branka’s – with Philip Griffin & Jude Iddison
DESCRIPTION:At Branka Coffee\, 35 Bishop Street\, Jolimont \nDoors open 6:30pm\, concert at 7:30pm – tickets at the door – $30/$20 concession
URL:https://frankiearmstrong.uk/event/frankie-armstrong-live-at-brankas-with-philip-griffin-jude-iddison/
LOCATION:Branka Coffee\, 35 Bishop Street\, Jolimont\, Australia
CATEGORIES:Live Concert
END:VEVENT
BEGIN:VEVENT
DTSTART;TZID=Europe/London:20240211T140000
DTEND;TZID=Europe/London:20240211T223000
DTSTAMP:20260420T043352
CREATED:20240202T110325Z
LAST-MODIFIED:20240202T110325Z
UID:31323-1707660000-1707690600@frankiearmstrong.uk
SUMMARY:Frankie Armstrong with Philip Griffin & Jude Iddison
DESCRIPTION:House concert Frankie Armstrong with Philip Griffin & Jude Iddison\nWhere: South Fremantle – concert location details on enquiry (via sms\, please) 0409 110 645\nTime: Arrival from 2:00pm\, concert at 3:00pm – tickets at the door – $30/$20 concession
URL:https://frankiearmstrong.uk/event/frankie-armstrong-with-philip-griffin-jude-iddison/
LOCATION:West Yorkshire
CATEGORIES:Live Concert
END:VEVENT
BEGIN:VEVENT
DTSTART;TZID=Europe/London:20240322T190000
DTEND;TZID=Europe/London:20240322T223000
DTSTAMP:20260420T043352
CREATED:20240202T110434Z
LAST-MODIFIED:20240307T090052Z
UID:31325-1711134000-1711146600@frankiearmstrong.uk
SUMMARY:Sydney Women's Concert
DESCRIPTION:19th March 2024\nSydney Women’s Concert\nFor more information please contact Christina Mimmochi on christinamsings@gmail.com
URL:https://frankiearmstrong.uk/event/sydney-womens-concert/
LOCATION:West Yorkshire
CATEGORIES:Live Concert
END:VEVENT
BEGIN:VEVENT
DTSTART;TZID=Europe/London:20240326T070000
DTEND;TZID=Europe/London:20240326T210000
DTSTAMP:20260420T043352
CREATED:20240307T091043Z
LAST-MODIFIED:20240307T091043Z
UID:31339-1711436400-1711486800@frankiearmstrong.uk
SUMMARY:Live concert with Sarah Hopkins and Ann Bermingham
DESCRIPTION:
URL:https://frankiearmstrong.uk/event/live-concert-with-sarah-hopkins-and-ann-bermingham/
LOCATION:Womenspace\,  Brisbane\, Australia
CATEGORIES:Live Concert
END:VEVENT
BEGIN:VEVENT
DTSTART;TZID=Europe/London:20240516T080000
DTEND;TZID=Europe/London:20240517T170000
DTSTAMP:20260420T043352
CREATED:20240202T110756Z
LAST-MODIFIED:20240307T092527Z
UID:31329-1715846400-1715965200@frankiearmstrong.uk
SUMMARY:Mayven Festival
DESCRIPTION:16th & 17th May 2024\nMayven Festival\nFrankie will be singing on running a voice workshop\nMore information will be upcoming on the website \nFurther information soon
URL:https://frankiearmstrong.uk/event/mayven-festival/
LOCATION:West Yorkshire
CATEGORIES:Live Concert
END:VEVENT
BEGIN:VEVENT
DTSTART;VALUE=DATE:20250801
DTEND;VALUE=DATE:20250809
DTSTAMP:20260420T043352
CREATED:20250218T184737Z
LAST-MODIFIED:20250218T184737Z
UID:31479-1754006400-1754697599@frankiearmstrong.uk
SUMMARY:Concerts and workshop at Sidmouth Folk Festival 2025
DESCRIPTION:All day event (Frankie’s exact dates tbc)\nConcert and workshop \nhttps://sidmouthfolkfestival.co.uk/2025lineup/
URL:https://frankiearmstrong.uk/event/concerts-and-workshop-at-sidmouth-folk-festival-2025/
LOCATION:Sidmouth Folk Festival\, Sidmouth\, EX10 8XR
CATEGORIES:Live Concert,Workshop
END:VEVENT
BEGIN:VEVENT
DTSTART;TZID=Europe/London:20250917T193000
DTEND;TZID=Europe/London:20250917T220000
DTSTAMP:20260420T043352
CREATED:20250218T185611Z
LAST-MODIFIED:20250218T185611Z
UID:31481-1758137400-1758146400@frankiearmstrong.uk
SUMMARY:Trad Night Concert
DESCRIPTION:Frankie is the September guest for the monthly Trad Night concert organised by EFDSS (English Folk Dance and Song Society)\, who awarded her a Gold Badge in 2018 for services to community voice development and traditional song. \n 
URL:https://frankiearmstrong.uk/event/trad-night-concert/
LOCATION:Cecil Sharp House\, 2 Regent’s Park Road\, London\, NW1 7AY\, United Kingdom
CATEGORIES:Live Concert
END:VEVENT
END:VCALENDAR