BEGIN:VCALENDAR
VERSION:2.0
PRODID:-//Frankie Armstrong - ECPv6.15.20//NONSGML v1.0//EN
CALSCALE:GREGORIAN
METHOD:PUBLISH
X-ORIGINAL-URL:https://frankiearmstrong.uk
X-WR-CALDESC:Events for Frankie Armstrong
REFRESH-INTERVAL;VALUE=DURATION:PT1H
X-Robots-Tag:noindex
X-PUBLISHED-TTL:PT1H
BEGIN:VTIMEZONE
TZID:Europe/London
BEGIN:DAYLIGHT
TZOFFSETFROM:+0000
TZOFFSETTO:+0100
TZNAME:BST
DTSTART:20220327T010000
END:DAYLIGHT
BEGIN:STANDARD
TZOFFSETFROM:+0100
TZOFFSETTO:+0000
TZNAME:GMT
DTSTART:20221030T010000
END:STANDARD
BEGIN:DAYLIGHT
TZOFFSETFROM:+0000
TZOFFSETTO:+0100
TZNAME:BST
DTSTART:20230326T010000
END:DAYLIGHT
BEGIN:STANDARD
TZOFFSETFROM:+0100
TZOFFSETTO:+0000
TZNAME:GMT
DTSTART:20231029T010000
END:STANDARD
BEGIN:DAYLIGHT
TZOFFSETFROM:+0000
TZOFFSETTO:+0100
TZNAME:BST
DTSTART:20240331T010000
END:DAYLIGHT
BEGIN:STANDARD
TZOFFSETFROM:+0100
TZOFFSETTO:+0000
TZNAME:GMT
DTSTART:20241027T010000
END:STANDARD
END:VTIMEZONE
BEGIN:VEVENT
DTSTART;TZID=Europe/London:20230711T193000
DTEND;TZID=Europe/London:20230711T223000
DTSTAMP:20260419T180932
CREATED:20230614T121037Z
LAST-MODIFIED:20230614T121322Z
UID:31238-1689103800-1689114600@frankiearmstrong.uk
SUMMARY:Benefit Concert
DESCRIPTION:Benefit Concert To Help Women in Crisis Far and Near \nWith: \nBread and Roses – Frankie Armstrong\, Laura Bradshaw and Pauline Down\nBread and Roses is a feisty\, folky\, three-piece female voice and instrumental ensemble\, with a passion for singing to promote change. We are Frankie Armstrong\, Laura Bradshaw and Pauline Down. \nThe Oasis One World Choir\nOasis One World Choir is a community arts project welcoming people who have been displaced from parts of the world (due to oppression and violence) into a new community. We learn about and share different music and culture as we go. \nThe Oasis One World Youth Project\nThe Oasis One World Choir youth project have stunned us all with their fun\, creativity and innovation and have created videos and performances to share their creations. We are delighted to share the rich and diverse culture that binds the choirs together in song. \nCath Little StoryTeller\nCath Little is a story teller who will be joining. Cath has a strong belief in the power of stories to connect us to one another\, to the land\, and to the people who once lived here. \nWe suggest a donation of £8 if you are able to afford this – otherwise any amount will be welcome. Donations will go to Care International\, which focuses on crucial help for women and children in crisis due to war and natural disasters and Cardiff Women’s Aid who are a women’s equality organisation which exists to eradicate violence against women and girls and to support survivors. \nThere will be snacks available!
URL:https://frankiearmstrong.uk/event/benefit-concert/
LOCATION:Saint Germans Chrch\, Metal Street\, Cardiff\, CF24 0JY\, United Kingdom
CATEGORIES:Live Concert
ATTACH;FMTTYPE=image/png:https://frankiearmstrong.uk/wp-content/uploads/2023/06/Screenshot-2023-06-14-at-13.08.43.png
END:VEVENT
END:VCALENDAR