BEGIN:VCALENDAR
VERSION:2.0
PRODID:-//Frankie Armstrong - ECPv6.15.20//NONSGML v1.0//EN
CALSCALE:GREGORIAN
METHOD:PUBLISH
X-ORIGINAL-URL:https://frankiearmstrong.uk
X-WR-CALDESC:Events for Frankie Armstrong
REFRESH-INTERVAL;VALUE=DURATION:PT1H
X-Robots-Tag:noindex
X-PUBLISHED-TTL:PT1H
BEGIN:VTIMEZONE
TZID:Europe/London
BEGIN:DAYLIGHT
TZOFFSETFROM:+0000
TZOFFSETTO:+0100
TZNAME:BST
DTSTART:20220327T010000
END:DAYLIGHT
BEGIN:STANDARD
TZOFFSETFROM:+0100
TZOFFSETTO:+0000
TZNAME:GMT
DTSTART:20221030T010000
END:STANDARD
BEGIN:DAYLIGHT
TZOFFSETFROM:+0000
TZOFFSETTO:+0100
TZNAME:BST
DTSTART:20230326T010000
END:DAYLIGHT
BEGIN:STANDARD
TZOFFSETFROM:+0100
TZOFFSETTO:+0000
TZNAME:GMT
DTSTART:20231029T010000
END:STANDARD
BEGIN:DAYLIGHT
TZOFFSETFROM:+0000
TZOFFSETTO:+0100
TZNAME:BST
DTSTART:20240331T010000
END:DAYLIGHT
BEGIN:STANDARD
TZOFFSETFROM:+0100
TZOFFSETTO:+0000
TZNAME:GMT
DTSTART:20241027T010000
END:STANDARD
END:VTIMEZONE
BEGIN:VEVENT
DTSTART;TZID=Europe/London:20230317T000000
DTEND;TZID=Europe/London:20230319T000000
DTSTAMP:20260420T011252
CREATED:20220802T124835Z
LAST-MODIFIED:20230119T193928Z
UID:31128-1679011200-1679184000@frankiearmstrong.uk
SUMMARY:Weekend workshop with Frankie and Kate Valentine
DESCRIPTION:Weekend workshop with Frankie and Kate Valentine \nTraining for Singing Mamas \nContact:  info@singingmamaschoir.com \n  \n  \n 
URL:https://frankiearmstrong.uk/event/weekend-workshop-with-frankie-and-kate-valentine/
LOCATION:Emerson College\, Forest Row\, East Sussex\, RH18 5JX\, United Kingdom
CATEGORIES:Workshop
END:VEVENT
END:VCALENDAR